BEGIN:VCALENDAR
VERSION:2.0
PRODID:-//Tukios.com/
BEGIN:VEVENT
UID:7c164a70-045c-4e8f-b59c-c49d0680e3d6@www.saulsfh.com
DTSTAMP:20260424T173051Z
DTSTART:20260502T170000Z
DTEND:20260502T190000Z
SUMMARY:Visitation
DESCRIPTION:
URL:https://www.saulsfh.com/obituaries/george-randall
LOCATION:Sauls Funeral Home 90 Simmonsville Rd  Bluffton SC 29910
GEO:32.2627418;-80.8718565
END:VEVENT
END:VCALENDAR