BEGIN:VCALENDAR
VERSION:2.0
PRODID:-//Tukios.com/
BEGIN:VEVENT
UID:c9041d24-e245-47c9-8328-9940fa1ce17b@www.saulsfh.com
DTSTAMP:20260424T172854Z
DTSTART:20260502T190000Z
DTEND:20260502T200000Z
SUMMARY:Memorial Service
DESCRIPTION:
URL:https://www.saulsfh.com/obituaries/george-randall
LOCATION:Sauls Funeral Home 90 Simmonsville Rd  Bluffton SC 29910
GEO:32.2627418;-80.8718565
END:VEVENT
END:VCALENDAR