BEGIN:VCALENDAR
VERSION:2.0
PRODID:-//Tukios.com/
BEGIN:VEVENT
UID:548901ac-9d6a-4f8f-a355-be53aec4361c@www.saulsfh.com
DTSTAMP:20260423T202827Z
DTSTART:20260430T160000Z
DTEND:20260430T180000Z
SUMMARY:Visitation
DESCRIPTION:
URL:https://www.saulsfh.com/obituaries/peggy-upton
LOCATION: 90 Simmonsville Rd  Bluffton SC 29910
GEO:32.2627418;-80.8718565
END:VEVENT
END:VCALENDAR