BEGIN:VCALENDAR
VERSION:2.0
PRODID:-//Tukios.com/
BEGIN:VEVENT
UID:51092f20-c89b-4814-b11b-d9a842bd09b2@www.saulsfh.com
DTSTAMP:20260423T202121Z
DTSTART:20260430T170000Z
DTEND:20260430T180000Z
SUMMARY:Funeral Service
DESCRIPTION:
URL:https://www.saulsfh.com/obituaries/peggy-upton
LOCATION: 90 Simmonsville Rd  Bluffton SC 29910
GEO:32.2627418;-80.8718565
END:VEVENT
END:VCALENDAR