BEGIN:VCALENDAR
VERSION:2.0
PRODID:-//Tukios.com/
BEGIN:VEVENT
UID:9d5cfcd0-37d1-4141-bd19-510e6ce81465@www.saulsfh.com
DTSTAMP:20260420T191326Z
DTSTART:20260425T140000Z
DTEND:20260425T150000Z
SUMMARY:Visitation
DESCRIPTION:
URL:https://www.saulsfh.com/obituaries/thomas-waring-cooler
LOCATION: 310 Adams St  Ridgeland SC 29936
GEO:32.4806032;-80.9846038
END:VEVENT
END:VCALENDAR