BEGIN:VCALENDAR
VERSION:2.0
PRODID:-//Tukios.com/
BEGIN:VEVENT
UID:c8105eeb-5d4b-4565-baa8-b627c5ed4fd6@www.saulsfh.com
DTSTAMP:20260420T191333Z
DTSTART:20260425T150000Z
DTEND:20260425T160000Z
SUMMARY:Funeral Service
DESCRIPTION:
URL:https://www.saulsfh.com/obituaries/thomas-waring-cooler
LOCATION: 310 Adams St  Ridgeland SC 29936
GEO:32.4806032;-80.9846038
END:VEVENT
END:VCALENDAR