BEGIN:VCALENDAR
VERSION:2.0
PRODID:-//Tukios.com/
BEGIN:VEVENT
UID:65526de4-da07-4606-9ff5-55c877b6c830@www.saulsfh.com
DTSTAMP:20260420T191225Z
DTSTART:20260425T160000Z
DTEND:20260425T170000Z
SUMMARY:Burial
DESCRIPTION:
URL:https://www.saulsfh.com/obituaries/thomas-waring-cooler
LOCATION: 300 Ingram St  Ridgeland SC 29936
GEO:32.4882118;-80.9879949
END:VEVENT
END:VCALENDAR